Workbook

Sheet Sheet1
A2: https://shenasname.ir | B2: تهیه و تنظیم : ناصر مه آبادی کارشناس مسئول منابع انسانی سازمان ثبت احوال کشور | F2: ارتباط با اینجانب ازطریق ایمیل | G2: telegram.me/NaserMahabadi
A4: بدیهی است با اعلام ضریب حقوق کارکنان دولت در سالجاری ، حقوق و مزایای کارکنان قرارداد انجام کارمعین مجددا بررسی و افزایش خواهد یافت
A5: توجه : لطفا با توجه به آخرین حکم کارگزینی سال 99 ، فقط اطلاعات در خانه های زرد رنگ وارد شود.
A6: عنوان | D6: امتیاز - سال 99 | F6: مبلغ سال 99 | G6: مبلغ سال 1400
A7: حقوق ثابت | B7: حق شغل | D7: 5520 | F7: =D7*'98'!C2 -> 13457760 | G7: =F7/0.8 -> 16822200
B8: فوق العاده مدیریت | D8: 0 | F8: =D8*'98'!C2 -> 0 | G8: =F8/0.8 -> 0
B9: حق شاغل | D9: 3312 | F9: =D9*'98'!C2 -> 8074656 | G9: =F9/0.8 -> 10093320
A10: فوق العاده شغل | D10: 1800 | F10: =D10*'98'!C2 -> 4388400 | G10: =F10/0.8 -> 5485500
A11: فوق العاده ایثارگری | D11: 0 | F11: =D11*'98'!C2 -> 0 | G11: =F11/0.8 -> 0
A12: فوق العاده سختی کار | F12: =D12*'98'!C2 -> 0 | G12: =F12/0.8 -> 0
A13: کمک هزینه عائله مندی | D13: 1215 | F13: =D13*'98'!C2 -> 2962170 | G13: =F13 -> 2962170
A14: کمک هزینه اولاد | D14: 315 | F14: =D14*'98'!C2 -> 767970 | G14: =F14 -> 767970
A15: فوق العاده نشان های دولتی | F15: =D15*'98'!C2 -> 0 | G15: =F15/0.8 -> 0
A16: فوق العاده خدمت در مناطق جنگ زده | F16: =D16*'98'!C2 -> 0 | G16: =F16/0.8 -> 0
A17: تفاوت جزء (1) بند الف تبصره 12 قانون بودجه سال 97 | D17: 0 | F17: =D17*'98'!C2 -> 0 | G17: =F17/0.8 -> 0
A18: تفاوت بند (ی) تبصره 12 قانون بودجه سال 98 | D18: 0 | F18: =D18*'98'!C2 -> 0 | G18: =F18/0.8 -> 0
A19: تفاوت تطبیق | G19: =F19 -> 0
A20: فوق العاده ویژه | D20: ='98'!B16 -> 0.17 | F20: 4507968 | G20: ='1400'!G17 -> 5936165
A21: فوق العاده ایثارگری موضوع ماده 51 قانون جامع | G21: ='1400'!G18 -> 0
A22: سایر | F22: 5942216 | G22: 0
A23: فوق العاده بدی آب و هوا | D23: ='98'!B3 -> 0 | F23: 0 | G23: =(G7+G8+G9)*D23 -> 0
A24: فوق العاده مناطق کمتر توسعه یافته | D24: ='98'!B4 -> 0 | F24: 0 | G24: =(G8+G9+G10)*D24 -> 0
A25: حداقل دریافتی | G25: =F25 -> 0
A26: جمع نهایی مبالغ مندرج در قرارداد | F26: =SUM(F7:F25) -> 40101140 | G26: =SUM(G7:G25) -> 42067325
F27: میزان افزایش ( کاهش) | G27: =G26-F26 -> 1966185
F28: درصد افزایش ( کاهش) | G28: =G27/F26 -> 0.049030651
A31: در صورتیکه تمایل دارید امتیاز حق شاغل شما بصورت دقیق محاسبه گردد لازم است نسبت به تکمیل خانه های زرد رنگ ذیل و درج اطلاعات شغلی (مدرک تحصیلی ، دوره های آموزشی ، مدت سوابق خدمت دولتی به تفکیک مدرک تحصیلی ، مدت تجربه مربوط و مشابه به تفکیک مدرک تحصیلی ، مدت خدمت در پست های سرپرستی و مدیریتی ) اقدام نمایید. در صورتیکه به هر دلیلی تمایل به تکمیل خانه های سبز رنگ و جداول یاد شده ندارید ، سیستم مبلغ حق شاغل شما در سال 99 را حدودی محاسبه خواهد نمود که عدد مذکور کمتر از عدد واقعی ولی نزدیک به آن خواهد بود.
A32: میزان ضریب افزایش حقوق در دستگاه | C32: 1.5
A34: آخرین مدرک تحصیلی اعمال شده | C34: فوق ليسانس | F34: مدت خدمت در پست های سرپرستی و مدیریتی تا تاریخ 1400/1/1
B35: =IF(C34=A41,"1",+IF(C34=A42,2,+IF(C34=A43,"3",+IF(C34=A44,4,+IF(C34=A45,5,+IF(C34=A46,6,0)))))) -> 5 | F35: امتياز سرپرستي | G35: روز | H35: ماه | I35: سال
A36: میزان ساعات دوره هاي آموزشي | C36: 1000 | F36: سرپرستي
F37: مديريتي
A39: مدت سوابق خدمت دولتی قابل قبول به تفکیک مدرک تحصیلی | F39: مدت تجربه مربوط و مشابه قابل قبول در دستگاه به تفکیک مدرک تحصیلی
A40: امتیاز سنوات خدمت | B40: روز | C40: ماه | D40: سال | F40: امتياز تجربه | G40: روز | H40: ماه | I40: سال
A41: زير ديپلم | F41: زير ديپلم
A42: ديپلم | F42: ديپلم
A43: فوق ديپلم | F43: فوق ديپلم
A44: ليسانس | F44: ليسانس
A45: فوق ليسانس | F45: فوق ليسانس
A46: دكتري | F46: دكتري
...

Sheet sheet 2
A1: تحصيلات | B1: =Sheet1!B35 -> 5
A2: زير ديپلم | B2: 1
A3: ديپلم | B3: 2
A4: فوق ديپلم | B4: 3
A5: ليسانس | B5: 4
A6: فوق ليسانس | B6: 5
A7: دكتري | B7: 6
A8: =CHOOSE(B1,A2,A3,A4,A5,A6,A7) -> فوق ليسانس | B8: =CHOOSE(B1,1100,1200,1400,1700,2000,2300) -> 2000
A10: دوره هاي آموزشي | B10: =Sheet1!C36 -> 1000 | C10: =ROUND(B10/2,0) -> 500
B11: =IF(C10<500,C10,500) -> 500
B12: كد را وارد كنيد
A13: امتياز مهارت و توانايي | B13: =Sheet1!B35 -> 5
A14: زير ديپلم | B14: 1
A15: ديپلم | B15: 2
A16: فوق ديپلم | B16: 3
A17: ليسانس | B17: 4
A18: فوق ليسانس | B18: 5
A19: دكتري | B19: 6
A20: =CHOOSE(B13,A14,A15,A16,A17,A18,A19) -> فوق ليسانس | B20: =CHOOSE(B13,200,250,300,400,600,800) -> 600
J22: روز | K22: ماه | L22: سال
K23: =J38 -> 0 | L23: =K38 -> 0
A24: سنوات خدمت | B24: روز | C24: ماه | D24: سال | E24: سنوات به روز | G24: امتياز | J24: =B25 -> 0 | K24: =C25 -> 0 | L24: =D25 -> 0
A25: زير ديپلم | B25: =Sheet1!B41 -> 0 | C25: =Sheet1!C41 -> 0 | D25: =Sheet1!D41 -> 0 | E25: =D25*360+C25*30+B25 -> 0 | F25: =ROUND(E25*10/360,0) -> 0 | G25: 10 | J25: =B26 -> 0 | K25: =C26 -> 0 | L25: =D26 -> 0
A26: ديپلم | B26: =Sheet1!B42 -> 0 | C26: =Sheet1!C42 -> 0 | D26: =Sheet1!D42 -> 0 | E26: =D26*360+C26*30+B26 -> 0 | F26: =ROUND(E26*15/360,0) -> 0 | G26: 15 | J26: =B27 -> 0 | K26: =C27 -> 0 | L26: =D27 -> 0
A27: فوق ديپلم | B27: =Sheet1!B43 -> 0 | C27: =Sheet1!C43 -> 0 | D27: =Sheet1!D43 -> 0 | E27: =D27*360+C27*30+B27 -> 0 | F27: =ROUND(E27*20/360,0) -> 0 | G27: 20 | J27: =B28 -> 0 | K27: =C28 -> 0 | L27: =D28 -> 0
A28: ليسانس | B28: =Sheet1!B44 -> 0 | C28: =Sheet1!C44 -> 0 | D28: =Sheet1!D44 -> 0 | E28: =D28*360+C28*30+B28 -> 0 | F28: =ROUND(E28*25/360,0) -> 0 | G28: 25 | J28: =B29 -> 0 | K28: =C29 -> 0 | L28: =D29 -> 0
A29: فوق ليسانس | B29: =Sheet1!B45 -> 0 | C29: =Sheet1!C45 -> 0 | D29: =Sheet1!D45 -> 0 | E29: =D29*360+C29*30+B29 -> 0 | F29: =ROUND(E29*30/360,0) -> 0 | G29: 30 | J29: =B30 -> 0 | K29: =C30 -> 0 | L29: =D30 -> 0
A30: دكتري | B30: =Sheet1!B46 -> 0 | C30: =Sheet1!C46 -> 0 | D30: =Sheet1!D46 -> 0 | E30: =D30*360+C30*30+B30 -> 0 | F30: =ROUND(E30*35/360,0) -> 0 | G30: 35
A31: سربازي | E31: =D31*360+C31*30+B31 -> 0 | J31: =B32 -> 0 | K31: =C32 -> 0 | L31: =D32 -> 0
A32: زير ديپلم | E32: =D32*360+C32*30+B32 -> 0 | F32: =ROUND(E32*10/360,0) -> 0 | G32: 10 | J32: =B33 -> 0 | K32: =C33 -> 0 | L32: =D33 -> 0
A33: ديپلم | E33: =D33*360+C33*30+B33 -> 0 | F33: =ROUND(E33*15/360,0) -> 0 | G33: 15 | J33: =B34 -> 0 | K33: =C34 -> 0 | L33: =D34 -> 0
A34: فوق ديپلم | E34: =D34*360+C34*30+B34 -> 0 | F34: =ROUND(E34*20/360,0) -> 0 | G34: 20 | J34: =B35 -> 0 | K34: =C35 -> 0 | L34: =D35 -> 0
A35: ليسانس | E35: =D35*360+C35*30+B35 -> 0 | F35: =ROUND(E35*25/360,0) -> 0 | G35: 25 | J35: =B36 -> 0 | K35: =C36 -> 0 | L35: =D36 -> 0
A36: فوق ليسانس | E36: =D36*360+C36*30+B36 -> 0 | F36: =ROUND(E36*30/360,0) -> 0 | G36: 30 | J36: =SUM(J24:J35) -> 0 | K36: =SUM(K23:K35) -> 0
A37: جمع سنوات | B37: =J37 -> 0 | C37: =K37 -> 0 | D37: =L37 -> 0 | F37: =ROUND(SUM(F25:F36),0) -> 0 | J37: =MOD(J36,30) -> 0 | K37: =MOD(K36,12) -> 0 | L37: =SUM(L23:L35) -> 0
J38: =INT((J24+J25+J26+J27+J28+J29+J31+J32+J33+J34+J35)/30) -> 0 | K38: =INT((K23+K24+K25+K26+K27+K28+K29+K31+K32+K33+K34+K35)/12) -> 0
J39: روز | K39: =J48 -> 0 | L39: =K48 -> 0
A40: امتياز تجربه | B40: روز | C40: ماه | D40: سال | E40: تجربه به روز | G40: امتياز | J40: =B41 -> 0 | K40: =C41 -> 0 | L40: =D41 -> 0
A41: زير ديپلم | B41: =Sheet1!G41 -> 0 | C41: =Sheet1!H41 -> 0 | D41: =Sheet1!I41 -> 0 | E41: =D41*360+C41*30+B41 -> 0 | F41: =ROUND(E41*8/360,0) -> 0 | G41: 8 | J41: =B42 -> 0 | K41: =C42 -> 0 | L41: =D42 -> 0
A42: ديپلم | B42: =Sheet1!G42 -> 0 | C42: =Sheet1!H42 -> 0 | D42: =Sheet1!I42 -> 0 | E42: =D42*360+C42*30+B42 -> 0 | F42: =ROUND(E42*10/360,0) -> 0 | G42: 10 | J42: =B43 -> 0 | K42: =C43 -> 0 | L42: =D43 -> 0
...

Sheet sheet 3
CP1: روز | CQ1: 0 | CR1: سال
CP2: 1 | CQ2: 1 | CR2: 1350
A3: حق شغل | B3: =Sheet1!D7 -> 5520 | CP3: 2 | CQ3: 2 | CR3: 1351
A4: فوق العاده مديريت | B4: =Sheet1!D8 -> 0 | CP4: 3 | CQ4: 3 | CR4: 1352
CP5: 4 | CQ5: 4 | CR5: 1353
A6: تحصيلات | B6: ='sheet 2'!B8 -> 2000 | CP6: 5 | CQ6: 5 | CR6: 1354
A7: دوره هاي آموزشي | B7: ='sheet 2'!B11 -> 500 | CP7: 6 | CQ7: 6 | CR7: 1355
A8: امتياز مهارت و توانايي | B8: ='sheet 2'!B20 -> 600 | CP8: 7 | CQ8: 7 | CR8: 1356
A9: سنوات خدمت | B9: =ROUND('sheet 2'!F37,0) -> 0 | CP9: 8 | CQ9: 8 | CR9: 1357
A10: امتياز تجربه | B10: =ROUND('sheet 2'!F47,0) -> 0 | CP10: 9 | CQ10: 9 | CR10: 1358
A11: امتياز حق شاغل | B11: =SUM(B6:B10) -> 3100 | CP11: 10 | CQ11: 10 | CR11: 1359
A12: شاغل با 75 درصد | B12: =IF(B11>F15,F16,B11) -> 0 | CP12: 11 | CQ12: 11 | CR12: 1360
A13: امتياز سرپرستي | B13: ='sheet 2'!I50 -> 0 | C13: مجموع امتياز سرپرستي و مديريت | D13: امتياز منظور شده مدیریت | E13: 20درصد 75درصد | CP13: 12 | CQ13: 12 | CR13: 1361
A14: مديريتي | B14: ='sheet 2'!I51 -> 0 | C14: =B13+B14 -> 0 | D14: =IF(C14<=E14,C14,E14) -> 0 | E14: =B11*0.2 -> 620 | F14: 75درصد حق شغل و مدیریت | CP14: 13 | CR14: 1362
A15: حق شاغل+امتيازم وس | B15: =B11+D14 -> 3100 | F15: =ROUND(((B3+B4)/1.5)*0.75,0) -> 2760 | CP15: 14 | CR15: 1363
A16: حق شاغل بعدازمقايسه75 | B16: =IF(B15>F15,F15,B15) -> 2760 | CP16: 15 | CR16: 1364
A17: امتیاز حق شاغل با ضریب | B17: =ROUND(B16*B18,0) -> 4140 | CP17: 16 | CR17: 1365
A18: ضریب | B18: =Sheet1!C32 -> 1.5 | CP18: 17 | CR18: 1366
CP19: 18 | CR19: 1367
CP20: 19 | CR20: 1368
CP21: 20 | CR21: 1369
CP22: 21 | CR22: 1370
CP23: 22 | CR23: 1371
CP24: 23 | CR24: 1372
CP25: 24 | CR25: 1373
CP26: 25 | CR26: 1374
CP27: 26 | CR27: 1375
CP28: 27 | CR28: 1376
CP29: 28 | CR29: 1377
CP30: 29 | CR30: 1378
... CP32: 31 | CR32: 1380
CR33: 1381
CR34: 1382
CR35: 1383
CR36: 1384
CR37: 1385
CR38: 1386
CR39: 1387
CR40: 1388
CR41: 1389
...

Sheet 98
C1: ضریب سال 99 | D1: ضریب سال 1400
A2: حق شغل | C2: 2438 | D2: 3047
A3: فوق العاده بدی آب و هوا | B3: =ROUND(Sheet1!F23/(Sheet1!F7+Sheet1!F8+Sheet1!F9+Sheet1!F17+Sheet1!F18),2) -> 0
A4: فوق العاده مناطق کمتر توسعه یافته | B4: =ROUND(Sheet1!F24/(Sheet1!F8+Sheet1!F9+Sheet1!F7+Sheet1!F17+Sheet1!F18),2) -> 0
A5: جمع حقوق و مزایای مستمر سال 99 | B5: =Sheet1!G7+Sheet1!G8+Sheet1!G9+Sheet1!G10+Sheet1!G11+Sheet1!G12+Sheet1!G17+Sheet1!G18 -> 32401020
A6: حداقل حقوق سال 1400 | B6: ='1400'!K2 -> 30000000
A7: حداقل دریافتی سال 1400 با محاسبه حداقل حقوق | B7: =IF(B5<B6,B6-B5,0) -> 0
A8: میزان افزایش سال 98 | B8: =(SUM(Sheet1!G7:G24))-Sheet1!F26 -> 1966185
A9: چک کردن 440 هزار تومان افزایش | B9: =IF(B8<=4400000,4400000-B8,0) -> 2433815
A10: اضافه نمودن مبلغ بیش از 440 هزار و عدد نهایی حداقل دریافتی | B10: =IF(B9>0,B7+B9,B7) -> 2433815
A11: عدد نهایی حداقل دریافتی سال 99 | B11: =IF(B10>B7,B10,B7) -> 2433815
A12: حق شاغل 1400 محاسبه سیستم | B12: =D2*'sheet 3'!B17 -> 12614580
A13: حداقل امتیاز حق شاغل بدون هیچ افزایشی | B13: =Sheet1!D9*'98'!D2 -> 10091664
A14: حق شاغل اعمال شده در فایل 1400 | B14: =IF(B12>=B13,B12,B13) -> 12614580
A15: حقوق و مزایای مشمول کسور سال 99 | B15: =Sheet1!F7+Sheet1!F8+Sheet1!F9+Sheet1!F10+Sheet1!F11+Sheet1!F12+Sheet1!F15+Sheet1!F16+Sheet1!F17+Sheet1!F18 -> 25920816
A16: درصد فوق العاده ویژه 97 | B16: =ROUND(Sheet1!F20/'98'!B15,2) -> 0.17
A17: مشمول کسور سال 1400 | B17: ='1400'!G4+'1400'!G5+'1400'!G6+'1400'!G7+'1400'!G8+'1400'!G9+'1400'!G12+'1400'!G13+'1400'!G14+'1400'!G15 -> 34918620
A18: ویژه 1400 | B18: =ROUND(B17*B16,0) -> 5936165

Sheet 1400
H1: ضریب 1399 | I1: 2438
H2: ضریب سال 1400 | I2: 3047 | J2: حداقل حقوق سال 1400 | K2: 30000000
A3: عنوان | D3: امتیاز - سال 99 | F3: مبلغ سال 99 | G3: مبلغ سال 1400
A4: حقوق ثابت | B4: حق شغل | D4: =Sheet1!D7 -> 5520 | F4: =Sheet1!F7 -> 13457760 | G4: =D4*I2 -> 16819440 | H4: =IF(I2>B34,0,D4*B34) -> 0
B5: فوق العاده مدیریت | D5: =Sheet1!D8 -> 0 | F5: =Sheet1!F8 -> 0 | G5: =D5*I2 -> 0
B6: حق شاغل | D6: =Sheet1!D9 -> 3312 | F6: =Sheet1!F9 -> 8074656 | G6: ='98'!B14 -> 12614580
A7: فوق العاده شغل | D7: =Sheet1!D10 -> 1800 | F7: =Sheet1!F10 -> 4388400 | G7: =D7*I2 -> 5484600
A8: فوق العاده ایثارگری | D8: =Sheet1!D11 -> 0 | F8: =Sheet1!F11 -> 0 | G8: =D8*I2 -> 0
A9: فوق العاده سختی کار | D9: =Sheet1!D12 -> 0 | F9: =Sheet1!F12 -> 0 | G9: =D9*I2 -> 0
A10: کمک هزینه عائله مندی | D10: =Sheet1!D13 -> 1215 | F10: =Sheet1!F13 -> 2962170 | G10: =D10*I2 -> 3702105
A11: کمک هزینه اولاد | D11: =Sheet1!D14 -> 315 | F11: =Sheet1!F14 -> 767970 | G11: =D11*I2 -> 959805
A12: فوق العاده نشان های دولتی | D12: =Sheet1!D15 -> 0 | F12: =Sheet1!F15 -> 0 | G12: =D12*I2 -> 0
A13: فوق العاده خدمت در مناطق جنگ زده | D13: =Sheet1!D16 -> 0 | F13: =Sheet1!F16 -> 0 | G13: =D13*I2 -> 0
A14: تفاوت جزء (1) بند الف تبصره 12 قانون بودجه سال 97 | D14: =Sheet1!D17 -> 0 | F14: =Sheet1!F17 -> 0 | G14: =D14*I2 -> 0
A15: تفاوت بند (ی) تبصره 12 قانون بودجه سال 98 | D15: =Sheet1!D18 -> 0 | F15: =Sheet1!F18 -> 0 | G15: =D15*I2 -> 0
A16: تفاوت تطبیق | F16: =Sheet1!F19 -> 0 | G16: =F16 -> 0
A17: فوق العاده ویژه | D17: =Sheet1!D20 -> 0.17 | F17: =Sheet1!F20 -> 4507968 | G17: ='98'!B18 -> 5936165
A18: فوق العاده ایثارگری موضوع ماده 51 قانون جامع | D18: =Sheet1!D21 -> 0 | F18: =Sheet1!F21 -> 0 | G18: =IF(F18>0,K2/4,0) -> 0
A19: سایر-جز ب بند 11 قانون بودجه سال 1388 | D19: =Sheet1!D22 -> 0 | F19: =Sheet1!F22 -> 5942216 | G19: =F19 -> 5942216
A20: فوق العاده بدی آب و هوا | D20: =Sheet1!D23 -> 0 | F20: =Sheet1!F23 -> 0 | G20: =(G4+G5+G6+G14+G15)*'98'!B3 -> 0
A21: فوق العاده مناطق کمتر توسعه یافته | D21: =Sheet1!D24 -> 0 | F21: =Sheet1!F24 -> 0 | G21: =(G4+G5+G6+G14+G15)*'98'!B4 -> 0
A22: حداقل دریافتی | D22: =Sheet1!D25 -> 0 | F22: =Sheet1!F25 -> 0 | G22: ='98'!B7 -> 0
A23: جمع نهایی مبالغ حکم کارگزینی | D23: =Sheet1!D26 -> 0 | F23: =Sheet1!F26 -> 40101140 | G23: =SUM(G4:G22) -> 51458911
A26: میزان افزایش حکم 1400 | B26: =G23-F23 -> 11357771
A27: حداکثر افزایش 1400 | B27: 25000000
B28: =IF(B26>B27,F23+B27,F23) -> 40101140
A29: مجموع اقلام دارای امتیاز | B29: =G4+G5+G6+G7+G8+G9+G10+G11+G12+G13+G14+G15 -> 39580530
A30: مجموع امتیاز | B30: =D4+D5+D6+D7+D8+D9+D10+D11+D12+D13+D14+D15 -> 12162
A31: ضریب | B31: =B29/B30 -> 3254.4425
A32: میزان افزایش بالاتر از 25000000 | B32: =B26-B27 -> -13642229
A33: مشمول کاهش امتیاز ضریب؟ | B33: =IF(B32>0,1,0) -> 0
B34: =IF(B33=1,(B29-B32)/B30) -> FALSE
